BEGIN:VCALENDAR
VERSION:2.0
PRODID:-//Escent - ECPv4.9.6//NONSGML v1.0//EN
CALSCALE:GREGORIAN
METHOD:PUBLISH
X-WR-CALNAME:Escent
X-ORIGINAL-URL:https://escent.eu
X-WR-CALDESC:Events for Escent
BEGIN:VTIMEZONE
TZID:"Europe/Paris"
BEGIN:DAYLIGHT
TZOFFSETFROM:+0100
TZOFFSETTO:+0200
TZNAME:CEST
DTSTART:20190331T010000
END:DAYLIGHT
BEGIN:STANDARD
TZOFFSETFROM:+0200
TZOFFSETTO:+0100
TZNAME:CET
DTSTART:20191027T010000
END:STANDARD
END:VTIMEZONE
BEGIN:VEVENT
DTSTART;TZID="Europe/Paris":20190924T090000
DTEND;TZID="Europe/Paris":20190926T170000
DTSTAMP:20190822T011857
CREATED:20161004T134501Z
LAST-MODIFIED:20190717T175051Z
UID:9241-1569315600-1569517200@escent.eu
SUMMARY:Certified Professional in Requirements Engineering – Foundation Level (IREB®)
DESCRIPTION:[vc_row full_width=”” parallax=”” parallax_image=”” row_container=”” isfullwidth=”1″ icon=”” bg_type=”no_bg” parallax_style=”vcpb-default” bg_image_new=”” layer_image=”” bg_image_repeat=”repeat” bg_image_size=”cover” bg_cstm_size=”” bg_img_attach=”scroll” parallax_sense=”30″ bg_image_posiiton=”” animation_direction=”left-animation” animation_repeat=”repeat” video_url=”” video_url_2=”” u_video_url=”” video_opts=”” video_poster=”” u_start_time=”” u_stop_time=”” viewport_vdo=”” enable_controls=”” bg_override=”0″ disable_on_mobile_img_parallax=”” parallax_content=”” parallax_content_sense=”30″ fadeout_row=”” fadeout_start_effect=”30″ enable_overlay=”” overlay_color=”” overlay_pattern=”” overlay_pattern_opacity=”80″ overlay_pattern_size=”” overlay_pattern_attachment=”fixed” multi_color_overlay=”” multi_color_overlay_opacity=”60″ seperator_enable=”” seperator_type=”none_seperator” seperator_position=”top_seperator” seperator_shape_size=”40″ seperator_svg_height=”60″ seperator_shape_background=”#fff” seperator_shape_border=”none” seperator_shape_border_color=”” seperator_shape_border_width=”1″ icon_type=”no_icon” icon_size=”32″ icon_color=”” icon_style=”none” icon_color_bg=”” icon_border_style=”” icon_color_border=”#333333″ icon_border_size=”1″ icon_border_radius=”500″ icon_border_spacing=”50″ icon_img=”” img_width=”48″ ult_hide_row=”” ult_hide_row_large_screen=”” ult_hide_row_desktop=”” ult_hide_row_tablet=”” ult_hide_row_tablet_small=”” ult_hide_row_mobile=”” ult_hide_row_mobile_large=””][vc_column width=”1/1″ css_animation=””][vc_column_text]\nCertified Professional in Requirements Engineering – Foundation Level (IREB®)\nLet’s recap !\n\nTraining dates: September 24th to September 26th of 2019\nTime: from 9 h 00 to 17 h 00 everyday\nOptions: lunch/vegetarian lunch\nTraining paper support: colour/black & white print\nTrainer: Frédéric Lust\n\nWe can’t wait to meet you ! \n  \nWhy should you follow this training?\nTarget audience\n\nYou are keen to learn the best practices in requirement engineering\, or to deepen your skills in business analysis\nYou are a requirement engineer\, product owner\, business analyst\, process analyst\, functional analyst\, process manager\, or interested in understanding the value of professionally handling requirements in a project\n\nYour expectations\n\nDiscover the requirements world or deepen your requirements and analysis related skills through an adequate balance between theory and exercises\nGet a toolbox of techniques necessary to get the job done in a pragmatic way.\n\nAdvantages\n\nYou prepare the exam of the IREB® CPRE- Foundation Level\nYou get 21 PDUs necessary to pass the IIBA® exams\nYou get 21 CDUs necessary to renew your PMI® certification\n\n  \nWhat will you learn?\n\nThe Principles\, best practices and techniques related to requirements throughout the full project life cycle\, illustrated with numerous examples and exercises\nElicitation: discover the requirements elicitation process\, which stakeholders to involve and how to gather requirements using common elicitation techniques\nDocumentation: understand the advantages of textual and visual documentation techniques and practise them to efficiently formalize project requirements\nValidation: improve requirements quality by using adequate validation techniques and requirements conflict resolution approaches\nManagement: learn how versioning\, prioritization\, change management and traceability contribute to keep volatile requirements under control\n\n[/vc_column_text][/vc_column][/vc_row] \n
URL:https://escent.eu/course/certified-professional-in-requirements-engineering-foundation-level-ireb-2/
LOCATION:escent office – Brussels\, Guimardstreet 15\, Brussels\, 1040\, Belgium
CATEGORIES:CPRE Foundation
END:VEVENT
BEGIN:VEVENT
DTSTART;TZID="Europe/Paris":20191008T090000
DTEND;TZID="Europe/Paris":20191010T170000
DTSTAMP:20190822T011857
CREATED:20161223T132808Z
LAST-MODIFIED:20190717T175524Z
UID:9295-1570525200-1570726800@escent.eu
SUMMARY:Certified Professional in Requirements Engineering – Foundation Level (IREB®)
DESCRIPTION:[vc_row bg_type=”no_bg”][vc_column][vc_column_text]\nCertified Professional in Requirements Engineering – Foundation Level (IREB®)\nLet’s recap !\n\nTraining dates: from 8 October until 10 October 2019\nTime: from 9 h 00 to 17 h 00 everyday\nOptions: lunch/vegetarian lunch\nTraining paper support: colour/black & white print\nTrainer: Benoit Cardinael\n\nWe can’t wait to meet you ! \n  \nWhy should you follow this training?\nTarget audience\n\nYou are keen to learn the best practices in requirement engineering\, or to deepen your skills in business analysis\nYou are a requirement engineer\, product owner\, business analyst\, process analyst\, functional analyst\, process manager\, or interested in understanding the value of professionally handling requirements in a project\n\nYour expectations\n\nDiscover the requirements world or deepen your requirements and analysis related skills through an adequate balance between theory and exercises\nGet a toolbox of techniques necessary to get the job done in a pragmatic way.\n\nAdvantages\n\nYou prepare the exam of the IREB® CPRE- Foundation Level\nYou get 21 PDUs necessary to pass the IIBA® exams\nYou get 21 CDUs necessary to renew your PMI® certification\n\n  \nWhat will you learn?\n\nThe Principles\, best practices and techniques related to requirements throughout the full project life cycle\, illustrated with numerous examples and exercises\nElicitation: discover the requirements elicitation process\, which stakeholders to involve and how to gather requirements using common elicitation techniques\nDocumentation: understand the advantages of textual and visual documentation techniques and practise them to efficiently formalize project requirements\nValidation: improve requirements quality by using adequate validation techniques and requirements conflict resolution approaches\nManagement: learn how versioning\, prioritization\, change management and traceability contribute to keep volatile requirements under control\n\n[/vc_column_text][/vc_column][/vc_row]\n
URL:https://escent.eu/course/luxembourg-certified-professional-in-requirements-engineering-foundation-level-ireb/
LOCATION:Luxembourg\, 46 JFKennedy avenue (REGUS Business Center).\, Luxembourg\, L-2540\, Luxembourg
CATEGORIES:CPRE Foundation
END:VEVENT
BEGIN:VEVENT
DTSTART;TZID="Europe/Paris":20191015T090000
DTEND;TZID="Europe/Paris":20191016T170000
DTSTAMP:20190822T011857
CREATED:20161223T134004Z
LAST-MODIFIED:20190717T180315Z
UID:9301-1571130000-1571245200@escent.eu
SUMMARY:Practical Business Process Model & Notation (BPMN 2.0)
DESCRIPTION:[vc_row bg_type=”no_bg”][vc_column][vc_column_text]\nBusiness Process Model & Notation (BPMN 2.0)\nLet’s recap !\n\nTraining dates: 15 October to 16 October 2019\nTime: from 9h00 to 17h00 everyday\nOptions: lunch/vegetarian lunch\nTraining paper support: colour/black & white print\nTrainer: Benoit Cardinael\n\nWe can’t wait to meet you ! \n  \nWhy should you follow this training?\nTarget audience\n\nYou want to understand the value of organizing\, documenting and improving your enterprise business processes\nYou are a process analyst\, business analyst\, functional analyst\, process manager\, or architect involved in process management\n\nYour expectations\n\nDiscover\, organize\, document and validate business processes using BPMN\nEvaluate the maturity level of your process management projects\nBridge the communication gap between business and IT\n\n\nWhat will you learn?\n\nCreate visual models that describe efficiently the organization’s end-to-end business processes\nBecome familiar with the syntax and semantics of BPMN\, the most popular notation to document business processes\nLearn best practices around style as well as numerous pragmatic tips to produce highly effective business process models using BPMN\n\n[/vc_column_text][/vc_column][/vc_row]\n
URL:https://escent.eu/course/luxembourg-practical-business-process-model-notation-bpmn-2-0-in-bpmn-2d/
LOCATION:Luxembourg\, 46 JFKennedy avenue (REGUS Business Center).\, Luxembourg\, L-2540\, Luxembourg
CATEGORIES:BPMN
END:VEVENT
BEGIN:VEVENT
DTSTART;TZID="Europe/Paris":20191023T090000
DTEND;TZID="Europe/Paris":20191024T170000
DTSTAMP:20190822T011857
CREATED:20160512T144029Z
LAST-MODIFIED:20190717T180028Z
UID:8456-1571821200-1571936400@escent.eu
SUMMARY:Practical Business Process Model & Notation (BPMN 2.0)
DESCRIPTION:Business Process Model & Notation (BPMN 2.0)\nLet’s recap !\n\nTraining dates: October 23th to October 24th of 2019\nTime: from 9 h 00 to 17 h 00 everyday\nOptions: lunch/vegetarian lunch\nTraining paper support: colour/black & white print\nTrainer: Frédéric Lust\n\nWe can’t wait to meet you ! \n  \nWhy should you follow this training?\nTarget audience\n\nYou want to understand the value of organizing\, documenting and improving your enterprise business processes\nYou are a process analyst\, business analyst\, functional analyst\, process manager\, or architect involved in process management\n\nYour expectations\n\nDiscover\, organize\, document and validate business processes using BPMN\nEvaluate the maturity level of your process management projects\nBridge the communication gap between business and IT\n\n\nWhat will you learn?\n\nCreate visual models that describe efficiently the organization’s end-to-end business processes\nBecome familiar with the syntax and semantics of BPMN\, the most popular notation to document business processes\nLearn best practices around style as well as numerous pragmatic tips to produce highly effective business process models using BPMN\n\n
URL:https://escent.eu/course/practical-business-process-model-notation-bpmn-2-0-2d-2/
LOCATION:Brussels\, Belgium
CATEGORIES:BPMN
ATTACH;FMTTYPE=image/jpeg:https://escent.eu/wp-content/uploads/2015/08/iStock_000079552775_Large.jpg
END:VEVENT
BEGIN:VEVENT
DTSTART;TZID="Europe/Paris":20191106T090000
DTEND;TZID="Europe/Paris":20191107T170000
DTSTAMP:20190822T011857
CREATED:20170222T110741Z
LAST-MODIFIED:20190717T180524Z
UID:9487-1573030800-1573146000@escent.eu
SUMMARY:Certified Agile Business Analyst
DESCRIPTION:[vc_row][vc_column][vc_column_text]\nCertified Agile Business Analyst\nLet’s recap !\n\nTraining dates: November 6th to November 7th of 2019\nTime: from 9 h 00 to 17 h 00 everyday\nOptions: lunch/vegetarian lunch\nTraining paper support: colour/black & white print\nTrainer: Benoit Cardinael\n\nWe can’t wait to meet you ! \n  \nWhy should you follow this training?\nTarget audience\n\nYou want to understand the role\, value\, and techniques of the business analyst in an Agile environment\nYou are a business analyst\, product owner\, scrum master\, requirement engineer\, or IT professional exposed to requirements in an Agile team\nYou are acting as business analyst or requirement engineer in a traditional project methodology and want to be effective in an Agile setup\n\nYour expectations\n\nUnderstand which roles and contribution the Agile team can expect from a Business Analyst\nExplore techniques suitable for performing Business Analysis in the Agile team\nAccredit Agile skills for recognition among employers\, clients and peers\n\nAdvantages\n\nYou prepare for the iSQI® Certified Agile Business Analysis certification\n\n\nWhat will you learn\n\nAn overview of Agile philosophy & common Agile methods\, predominantly focused on software development\nAn in-depth review of the role and skills of a business analyst performing in an Agile development context\nThe Agile frameworks for business analysts proposed in the Agile Extension to the BABOK® Guide produced in collaboration between the IIBA® and the Agile Alliance®.\nA selection of more than 10 techniques from the Agile Discovery and Delivery frameworks specifically suitable for business analysis in the Agile world\n\n[/vc_column_text][/vc_column][/vc_row]\n
URL:https://escent.eu/course/luxembourg-certified-agile-business-analyst-caba-2d/
LOCATION:Luxembourg\, 46 JFKennedy avenue (REGUS Business Center).\, Luxembourg\, L-2540\, Luxembourg
CATEGORIES:Agile
END:VEVENT
BEGIN:VEVENT
DTSTART;TZID="Europe/Paris":20191203T090000
DTEND;TZID="Europe/Paris":20191205T170000
DTSTAMP:20190822T011857
CREATED:20161114T133443Z
LAST-MODIFIED:20190718T170428Z
UID:9232-1575363600-1575565200@escent.eu
SUMMARY:Certified Professional in Requirements Engineering – Foundation Level (IREB®)
DESCRIPTION:[vc_row full_width=”” parallax=”” parallax_image=”” row_container=”” isfullwidth=”1″ icon=”” bg_type=”no_bg” parallax_style=”vcpb-default” bg_image_new=”” layer_image=”” bg_image_repeat=”repeat” bg_image_size=”cover” bg_cstm_size=”” bg_img_attach=”scroll” parallax_sense=”30″ bg_image_posiiton=”” animation_direction=”left-animation” animation_repeat=”repeat” video_url=”” video_url_2=”” u_video_url=”” video_opts=”” video_poster=”” u_start_time=”” u_stop_time=”” viewport_vdo=”” enable_controls=”” bg_override=”0″ disable_on_mobile_img_parallax=”” parallax_content=”” parallax_content_sense=”30″ fadeout_row=”” fadeout_start_effect=”30″ enable_overlay=”” overlay_color=”” overlay_pattern=”” overlay_pattern_opacity=”80″ overlay_pattern_size=”” overlay_pattern_attachment=”fixed” multi_color_overlay=”” multi_color_overlay_opacity=”60″ seperator_enable=”” seperator_type=”none_seperator” seperator_position=”top_seperator” seperator_shape_size=”40″ seperator_svg_height=”60″ seperator_shape_background=”#fff” seperator_shape_border=”none” seperator_shape_border_color=”” seperator_shape_border_width=”1″ icon_type=”no_icon” icon_size=”32″ icon_color=”” icon_style=”none” icon_color_bg=”” icon_border_style=”” icon_color_border=”#333333″ icon_border_size=”1″ icon_border_radius=”500″ icon_border_spacing=”50″ icon_img=”” img_width=”48″ ult_hide_row=”” ult_hide_row_large_screen=”” ult_hide_row_desktop=”” ult_hide_row_tablet=”” ult_hide_row_tablet_small=”” ult_hide_row_mobile=”” ult_hide_row_mobile_large=””][vc_column width=”1/1″ css_animation=””][vc_column_text]\nCertified Professional in Requirements Engineering – Foundation Level (IREB®)\nLet’s recap !\n\nTraining dates: 3rd December to 5th December 2019\nTime: from 9 h 00 to 17 h 00 everyday\nOptions: lunch/vegetarian lunch\nTraining paper support: colour/black & white print\nTrainer: Benoit Cardinael or Frédéric Lust\n\nWe can’t wait to meet you ! \n  \nWhy should you follow this training?\nTarget audience\n\nYou are keen to learn the best practices in requirement engineering\, or to deepen your skills in business analysis\nYou are a requirement engineer\, product owner\, business analyst\, process analyst\, functional analyst\, process manager\, or interested in understanding the value of professionally handling requirements in a project\n\nYour expectations\n\nDiscover the requirements world or deepen your requirements and analysis related skills through an adequate balance between theory and exercises\nGet a toolbox of techniques necessary to get the job done in a pragmatic way.\n\nAdvantages\n\nYou prepare the exam of the IREB® CPRE- Foundation Level\nYou get 21 PDUs necessary to pass the IIBA® exams\nYou get 21 CDUs necessary to renew your PMI® certification\n\n  \nWhat will you learn?\n\nThe Principles\, best practices and techniques related to requirements throughout the full project life cycle\, illustrated with numerous examples and exercises\nElicitation: discover the requirements elicitation process\, which stakeholders to involve and how to gather requirements using common elicitation techniques\nDocumentation: understand the advantages of textual and visual documentation techniques and practise them to efficiently formalize project requirements\nValidation: improve requirements quality by using adequate validation techniques and requirements conflict resolution approaches\nManagement: learn how versioning\, prioritization\, change management and traceability contribute to keep volatile requirements under control\n\n[/vc_column_text][/vc_column][/vc_row]\n
URL:https://escent.eu/course/certified-professional-in-requirements-engineering-foundation-level-ireb-3d-2/
LOCATION:Brussels\, Belgium
CATEGORIES:CPRE Foundation
END:VEVENT
BEGIN:VEVENT
DTSTART;TZID="Europe/Paris":20191211T090000
DTEND;TZID="Europe/Paris":20191212T170000
DTSTAMP:20190822T011857
CREATED:20170222T090919Z
LAST-MODIFIED:20190717T180707Z
UID:9440-1576054800-1576170000@escent.eu
SUMMARY:Certified Agile Business Analyst
DESCRIPTION:[vc_row full_width=”” parallax=”” parallax_image=”” row_container=”” isfullwidth=”1″ icon=”” bg_type=”no_bg” parallax_style=”vcpb-default” bg_image_new=”” layer_image=”” bg_image_repeat=”repeat” bg_image_size=”cover” bg_cstm_size=”” bg_img_attach=”scroll” parallax_sense=”30″ bg_image_posiiton=”” animation_direction=”left-animation” animation_repeat=”repeat” video_url=”” video_url_2=”” u_video_url=”” video_opts=”” video_poster=”” u_start_time=”” u_stop_time=”” viewport_vdo=”” enable_controls=”” bg_override=”0″ disable_on_mobile_img_parallax=”” parallax_content=”” parallax_content_sense=”30″ fadeout_row=”” fadeout_start_effect=”30″ enable_overlay=”” overlay_color=”” overlay_pattern=”” overlay_pattern_opacity=”80″ overlay_pattern_size=”” overlay_pattern_attachment=”fixed” multi_color_overlay=”” multi_color_overlay_opacity=”60″ seperator_enable=”” seperator_type=”none_seperator” seperator_position=”top_seperator” seperator_shape_size=”40″ seperator_svg_height=”60″ seperator_shape_background=”#fff” seperator_shape_border=”none” seperator_shape_border_color=”” seperator_shape_border_width=”1″ icon_type=”no_icon” icon_size=”32″ icon_color=”” icon_style=”none” icon_color_bg=”” icon_border_style=”” icon_color_border=”#333333″ icon_border_size=”1″ icon_border_radius=”500″ icon_border_spacing=”50″ icon_img=”” img_width=”48″ ult_hide_row=”” ult_hide_row_large_screen=”” ult_hide_row_desktop=”” ult_hide_row_tablet=”” ult_hide_row_tablet_small=”” ult_hide_row_mobile=”” ult_hide_row_mobile_large=””][vc_column width=”1/1″ css_animation=””][vc_column_text]\n\n\n\n\n\n\n\n\n\n\n\n\n\n\n\n\n\n\n\n\n\n\n\n\n\n\n\n\n\n\n\n\n\n\n\n\n\n\n\n\n\n\n\n Certified Agile Business Analyst\nLet’s recap !\n\nTraining dates: 11th December to 12th December of 2019\nTime: from 9 h 00 to 17 h 00 everyday\nOptions: lunch/vegetarian lunch\nTraining paper support: colour/black & white print\nTrainer: Benoit Cardinael\n\nWe can’t wait to meet you ! \n  \nWhy should you follow this training?\nTarget audience\n\nYou want to understand the role\, value\, and techniques of the business analyst in an Agile environment\nYou are a business analyst\, product owner\, scrum master\, requirement engineer\, or IT professional exposed to requirements in an Agile team\nYou are acting as business analyst or requirement engineer in a traditional project methodology and want to be effective in an Agile setup\n\nYour expectations\n\nUnderstand which roles and contribution the Agile team can expect from a Business Analyst\nExplore techniques suitable for performing Business Analysis in the Agile team\nAccredit Agile skills for recognition among employers\, clients and peers\n\nAdvantages\n\nYou prepare for the iSQI® Certified Agile Business Analysis certification\n\n\nWhat will you learn\n\nAn overview of Agile philosophy & common Agile methods\, predominantly focused on software development\nAn in-depth review of the role and skills of a business analyst performing in an Agile development context\nThe Agile frameworks for business analysts proposed in the Agile Extension to the BABOK® Guide produced in collaboration between the IIBA® and the Agile Alliance®.\nA selection of more than 10 techniques from the Agile Discovery and Delivery frameworks specifically suitable for business analysis in the Agile world\n\n\n\n\n\n\n\n\n\n\n\n\n\n\n\n\n\n\n\n\n\n\n\n\n\n\n\n\n\n\n\n\n\n\n\n\n\n\n\n\n\n\n\n\n[/vc_column_text][/vc_column][/vc_row]\n
URL:https://escent.eu/course/brussels-certified-agile-business-analyst-2d-3/
LOCATION:Brussels\, Belgium
CATEGORIES:Agile
END:VEVENT
END:VCALENDAR